BEGIN:VCALENDAR
VERSION:2.0
PRODID:-//ChamberMaster//Event Calendar 2.0//EN
METHOD:PUBLISH
X-PUBLISHED-TTL:P3D
REFRESH-INTERVAL:P3D
CALSCALE:GREGORIAN
BEGIN:VEVENT
DTSTART:20240817T120000Z
DTEND:20240817T193000Z
X-MICROSOFT-CDO-ALLDAYEVENT:FALSE
SUMMARY:The Connection Car Show
DESCRIPTION:The Connection Car Show\n\nAugust 17\, 2024\n\n8:00 am - 3:30 pm\n\n\n\nThe Connection car show is an open-class event to benefit the museum. It serves as a platform to unite a diverse community of car enthusiasts and intrigued spectators. An array of cars from different makes\, models\, and eras ignites an atmosphere of shared passion and appreciation. Participants are eligible to win the Savoy's Choice Award or one of 20 People's Choice Awards. The showgrounds open at 8:00 am with the awards ceremony at 3:00 pm.\n\n\n\nLimited to 300 cars.\n\nAll sales are final. This is a rain or shine event. Please read all the details before registering.\n\nLearn More/Register\n\n\n\nThe Connection is sponsored in part by:\n\nAtlanta Car Model Enthusiasts\, AMS Oil\, C&C Exterminators\, Hagerty\, Only in Cartersville Bartow\, The Rebel 104.9\, and Risk & Insurance Consultants of North Georgia.
X-ALT-DESC;FMTTYPE=text/html:The Connection Car Show<br />\nAugust 17\, 2024<br />\n8:00 am - 3:30 pm<br />\n<br />\nThe Connection car show is an open-class event to benefit the museum. It serves as a platform to unite a diverse community of car enthusiasts and intrigued spectators. An array of cars from different makes\, models\, and eras ignites an atmosphere of shared passion and appreciation. Participants are eligible to win the Savoy&#39\;s Choice Award or one of 20 People&#39\;s Choice Awards. The showgrounds open at 8:00 am with the awards ceremony at 3:00 pm.<br />\n<br />\nLimited to 300 cars.<br />\nAll sales are final. This is a rain or shine event. Please read all the details before registering.<br />\n<a href="https://savoymuseum.org/events/the-connection-car-show-2024/" target="_blank">Learn More/Register</a><br />\n<br />\nThe Connection is sponsored in part by:<br />\nAtlanta Car Model Enthusiasts\, AMS Oil\, C&amp\;C Exterminators\, Hagerty\, Only in Cartersville Bartow\, The Rebel 104.9\, and Risk &amp\; Insurance Consultants of North Georgia.
LOCATION:Savoy Automobile Museum 3 Savoy Lane Carteresville\, GA 30120
UID:e.1202.165967
SEQUENCE:3
DTSTAMP:20260422T202002Z
URL:https://business.cartersvillechamber.com/events/details/the-connection-car-show-165967
END:VEVENT

END:VCALENDAR
