BEGIN:VCALENDAR
VERSION:2.0
PRODID:-//ChamberMaster//Event Calendar 2.0//EN
METHOD:PUBLISH
X-PUBLISHED-TTL:P3D
REFRESH-INTERVAL:P3D
CALSCALE:GREGORIAN
BEGIN:VEVENT
DTSTART:20250906T130000Z
DTEND:20250906T193000Z
X-MICROSOFT-CDO-ALLDAYEVENT:FALSE
SUMMARY:The Connection Car Show
DESCRIPTION:The Connection Car Show\n\nSaturday\, September 6\, 2025\n\n9:00 am - 3:30 pm\n\n\n\nThe Connection car show is an open-class event to benefit the museum. It serves as a platform to unite a diverse community of car enthusiasts and intrigued spectators. An array of cars from different makes\, models\, and eras ignites an atmosphere of shared passion and appreciation. Participants are eligible to win the Savoy's Choice Award or one of 20 People's Choice Awards. The showgrounds open at 9:00 am with the awards ceremony at 3:00 pm.\n\n\n\nThis year's event will feature 300 spots for show cars\, Lokar Car Show Filming\, the Museum Exhibits\, a Tractor display\, food and beverage\, Vroomville for the kids\, and a 50/50 raffle.\n\n\n\nThe Connection is sponsored in part by:\n\nAtlanta Car Model Enthusiasts\, AMS Oil\, C&C Exterminators\, Hagerty\, Cartersville Museum City\, Jackson Speed & Custom\, The Rebel 104.9\, Rev Match and Zeal Automotive.
X-ALT-DESC;FMTTYPE=text/html:The Connection Car Show<br />\nSaturday\, September 6\, 2025<br />\n9:00 am - 3:30 pm<br />\n<br />\nThe Connection car show is an open-class event to benefit the museum. It serves as a platform to unite a diverse community of car enthusiasts and intrigued spectators. An array of cars from different makes\, models\, and eras ignites an atmosphere of shared passion and appreciation. Participants are eligible to win the Savoy&#39\;s Choice Award or one of 20 People&#39\;s Choice Awards. The showgrounds open at 9:00 am with the awards ceremony at 3:00 pm.<br />\n<br />\nThis year&#39\;s event will feature 300 spots for show cars\, Lokar Car Show Filming\, the Museum Exhibits\, a Tractor display\, food and beverage\, Vroomville for the kids\, and a 50/50 raffle.<br />\n<br />\nThe Connection is sponsored in part by:<br />\nAtlanta Car Model Enthusiasts\, AMS Oil\, C&amp\;C Exterminators\, Hagerty\, Cartersville Museum City\, Jackson Speed &amp\; Custom\, The Rebel 104.9\, Rev Match and Zeal Automotive.
LOCATION:Savoy Automobile Museum 3 Savoy Lane Cartersville\, GA 30120
UID:e.1202.171745
SEQUENCE:3
DTSTAMP:20260422T020857Z
URL:https://business.cartersvillechamber.com/events/details/the-connection-car-show-171745
END:VEVENT

END:VCALENDAR
