BEGIN:VCALENDAR
VERSION:2.0
PRODID:-//ChamberMaster//Event Calendar 2.0//EN
METHOD:PUBLISH
X-PUBLISHED-TTL:P3D
REFRESH-INTERVAL:P3D
CALSCALE:GREGORIAN
BEGIN:VEVENT
DTSTART:20240723T220000Z
DTEND:20240723T230000Z
X-MICROSOFT-CDO-ALLDAYEVENT:FALSE
SUMMARY:The Flow of Knowledge: Navigating Your Menstrual Cycle
DESCRIPTION:Come join us at Cultivate Health for an interactive event where we dive into understanding your menstrual cycle like never before. Learn how to harness the power of your cycle for improved health and well-being. From tracking ovulation to managing symptoms\, we'll cover it all. Get ready to feel empowered and informed about your body's natural rhythm. Don't miss out on this opportunity to connect with like-minded individuals and gain valuable insights that you can begin implementing right away! See you there!\n\n\n\nHaving trouble with your hormones\, cramps\, acne\, sleep\, mood? This workshop is for YOU! \n\n\n\nWhat you'll learn: \n\n-What is a normal cycle\n\n-How hormonal issues are brain issues! \n\n-How to support your cycle phases \n\n-Tools to implement right away to make changes in your cycle\n\n\n\nThis workshop is designed for women in all phases of life- prepubescent\, menstruating\, perimenopause and menopause. This workshop is the foundation for the upcoming fall workshops that dive deeper into specific topics. \n\n\n\nPlease RSVP here: \n\nFreewww.eventbrite.com/e/the-flow-of-knowledge-navigating-your-menstrual-cycle-tickets-947621781257
X-ALT-DESC;FMTTYPE=text/html:<span style="color:rgb(111\, 114\, 135)\; font-family:neue plak\,-apple-system\,blinkmacsystemfont\,roboto\,helvetica neue\,helvetica\,tahoma\,arial\,sans-serif\; font-size:16px">Come join us at&nbsp\;</span><strong><strong>Cultivate Health</strong></strong><font color="#6f7287" face="neue plak\, -apple-system\, blinkmacsystemfont\, roboto\, helvetica neue\, helvetica\, tahoma\, arial\, sans-serif" size="3">&nbsp\;for an interactive event where we dive into understanding your menstrual cycle like never before. Learn how to harness the power of your cycle for improved health and well-being. From tracking ovulation to managing symptoms\, we&#39\;ll cover it all. Get ready to feel empowered and informed about your body&#39\;s natural rhythm. Don&#39\;t miss out on this opportunity to connect with like-minded individuals and gain valuable insights that you can begin implementing right away! See you there!<br />\n<br />\nHaving trouble with your hormones\, cramps\, acne\, sleep\, mood? This workshop is for YOU!&nbsp\;</font><br />\n<br />\n<font color="#6f7287" face="neue plak\, -apple-system\, blinkmacsystemfont\, roboto\, helvetica neue\, helvetica\, tahoma\, arial\, sans-serif" size="3">What you&#39\;ll learn:&nbsp\;</font><br />\n<font color="#6f7287" face="neue plak\, -apple-system\, blinkmacsystemfont\, roboto\, helvetica neue\, helvetica\, tahoma\, arial\, sans-serif" size="3">-What is a normal cycle</font><br />\n<font color="#6f7287" face="neue plak\, -apple-system\, blinkmacsystemfont\, roboto\, helvetica neue\, helvetica\, tahoma\, arial\, sans-serif" size="3">-How hormonal issues are brain issues!&nbsp\;<br />\n-How to support your cycle phases&nbsp\;<br />\n-Tools to implement right away to make changes in your cycle<br />\n<br />\nThis workshop is designed for women in all phases of life- prepubescent\, menstruating\, perimenopause and menopause. This workshop is the foundation for the upcoming fall workshops that dive deeper into specific topics.&nbsp\;<br />\n<br />\nPlease RSVP here:&nbsp\;</font><br />\n<a href="https://l.facebook.com/l.php?u=https%3A%2F%2Fwww.eventbrite.com%2Fe%2Fthe-flow-of-knowledge-navigating-your-menstrual-cycle-tickets-947621781257%3Ffbclid%3DIwZXh0bgNhZW0CMTAAAR25aK1YILQb1OSZ_uSv4F-VVx6HLiKmxXzqcrVQN9yzl5fWpjIpOlCW2UI_aem_1phaMtAQJYwvwadm1nj5XA&amp\;h=AT0Hp5fLQwuPO4A7RgD17XvmXTMiu1KFEKBSJKIgz1QkCv3A396i34VptG9KxGRcZ8ErWxO4bdZQj6FXMNFfBtsVhs6Y3a8wVAXo8UWCWfsBnjk64RS54vvP0G7FH0PQMkSG-sOFCVqggH7AAVOD4rUV_wI">Freewww.eventbrite.com/e/the-flow-of-knowledge-navigating-your-menstrual-cycle-tickets-947621781257</a><br />\n&nbsp\;
LOCATION:Cultivate Health 1130 N. Tennessee St. Suite C Cartersville\, GA 30120
UID:e.1202.166130
SEQUENCE:3
DTSTAMP:20260422T214407Z
URL:https://business.cartersvillechamber.com/events/details/the-flow-of-knowledge-navigating-your-menstrual-cycle-166130
END:VEVENT

END:VCALENDAR
