BEGIN:VCALENDAR
VERSION:2.0
PRODID:-//ChamberMaster//Event Calendar 2.0//EN
METHOD:PUBLISH
X-PUBLISHED-TTL:P3D
REFRESH-INTERVAL:P3D
CALSCALE:GREGORIAN
BEGIN:VEVENT
DTSTART:20250619T170000Z
DTEND:20250619T183000Z
X-MICROSOFT-CDO-ALLDAYEVENT:FALSE
SUMMARY:"The Fundamentals of Website Design" Workshop
DESCRIPTION:"The Fundamentals of Website Design" Workshop\n\n\n\nThursday\, June 19\, 2025\, 1:00 PM - 2:30 PM\n\nFee: Free\n\n\n\nIn this webinar\, you will learn how to transform your business website from a passive digital presence into an active customer acquisition tool. We will explore proven design strategies that drive conversions and demonstrate how effective website design directly impacts your bottom line.\n\n\n\nOur expert presenter will show you how to turn your website into a powerful conversion tool that works for your business. From choosing the right website type to understanding the psychology behind online visitor engagement\, we'll break down the essential design strategies into simple\, actionable steps anyone can follow.\n\n\n\nYou'll learn the following:\n\n	The five critical website functions\, from branding to lead generation\n	How to select the right website approach for your budget and needs\n	The psychology behind what makes a visitor stay or bounce\n	How to build instant trust through strategic design elements\n	How to Implement navigation systems that guide visitors toward conversion\n\n\n\nRegister Online
X-ALT-DESC;FMTTYPE=text/html:<strong>&quot\;The Fundamentals of Website Design</strong><strong>&quot\; Workshop<br />\n<br />\nThursday\, June 19\, 2025\, 1:00 PM - 2:30 PM<br />\nFee: Free</strong><br />\n<br />\nIn this webinar\, you will learn how to transform your business website from a passive digital presence into an active customer acquisition tool. We will explore proven design strategies that drive conversions and demonstrate how effective website design directly impacts your bottom line.<br />\n<br />\nOur expert presenter will show you how to turn your website into a powerful conversion tool that works for your business. From choosing the right website type to understanding the psychology behind online visitor engagement\, we&#39\;ll break down the essential design strategies into simple\, actionable steps anyone can follow.<br />\n<br />\nYou&#39\;ll learn the following:\n<ul>\n	<li>The five critical website functions\, from branding to lead generation</li>\n	<li>How to select the right website approach for your budget and needs</li>\n	<li>The psychology behind what makes a visitor stay or bounce</li>\n	<li>How to build instant trust through strategic design elements</li>\n	<li>How to Implement navigation systems that guide visitors toward conversion</li>\n</ul>\n<br />\n<a href="https://www.score.org/event/fundamentals-website-design-turning-online-visitors-customers" target="_blank"><strong>Register Online</strong></a>
LOCATION:Online Workshop
UID:e.1202.171002
SEQUENCE:3
DTSTAMP:20260422T062430Z
URL:https://business.cartersvillechamber.com/events/details/the-fundamentals-of-website-design-workshop-171002
END:VEVENT

END:VCALENDAR
