BEGIN:VCALENDAR
VERSION:2.0
PRODID:-//ChamberMaster//Event Calendar 2.0//EN
METHOD:PUBLISH
X-PUBLISHED-TTL:P3D
REFRESH-INTERVAL:P3D
CALSCALE:GREGORIAN
BEGIN:VEVENT
DTSTART:20250724T223000Z
DTEND:20250724T233000Z
X-MICROSOFT-CDO-ALLDAYEVENT:FALSE
SUMMARY:The Immune System 101 Workshop
DESCRIPTION:Join us for this educational workshop all about the Immune System!\n\n\n\nYou'll learn all about: \n\n-How the immune system really works\n\n-The role of the nervous system in immunity\n\n-Informed choice and parental rights\n\n \n\nThis workshop is perfect for parents with little ones who want to support their family's immunity naturally\, as well as adults seeking a more holistic\, whole-body approach to immune health.
X-ALT-DESC;FMTTYPE=text/html:<div>Join us for this educational workshop all about the Immune System!<br />\n<br />\nYou&#39\;ll learn all about:&nbsp\;</div>\n\n<div>-How the immune system really works<br />\n-The role of the nervous system in immunity<br />\n-Informed choice and parental rights<br />\n&nbsp\;</div>\n\n<div>This workshop is perfect for parents with little ones who want to support their family&rsquo\;s immunity naturally\, as well as adults seeking a more holistic\, whole-body approach to immune health.</div>\n
LOCATION:Cultivate Health 1130 N. Tennessee St. Suite C Cartersville\, GA 30120 (In the same red brick building as the Georgia Farm Bureau)
UID:e.1202.171536
SEQUENCE:3
DTSTAMP:20260422T045823Z
URL:https://business.cartersvillechamber.com/events/details/the-immune-system-101-workshop-171536
END:VEVENT

END:VCALENDAR
