BEGIN:VCALENDAR
VERSION:2.0
PRODID:-//ChamberMaster//Event Calendar 2.0//EN
METHOD:PUBLISH
X-PUBLISHED-TTL:P3D
REFRESH-INTERVAL:P3D
CALSCALE:GREGORIAN
BEGIN:VEVENT
DTSTART:20240611T170000Z
DTEND:20240611T180000Z
X-MICROSOFT-CDO-ALLDAYEVENT:FALSE
SUMMARY:"The One-Page Business Plan: Kickstart Your Launch" Online Workshop
DESCRIPTION:The One-Page Business Plan: Kickstart Your Launch\n\n\n\nTuesday\, June 11\, 2024\, 1 PM - 2 PM\n\nFee: Free\n\n\n\nHaving a solid\, well-defined business plan is essential for the success of your business\, and we're excited to help you achieve it! \n\n\n\nJoin us for an informative webinar led by two top experts\, Jocelyn Ring and Brian Moran\, who have decades of experience advising small business owners. They will guide you step-by-step through building a strong foundation for your business using a one-page business plan. \n\n\n\nPlus\, you'll receive a helpful PDF workbook to assist you throughout the process\, which you can download during the webinar. Don't miss out on this opportunity to take your business to the next level!\n\n\n\nRegister Online
X-ALT-DESC;FMTTYPE=text/html:<strong>The One-Page Business Plan: Kickstart Your Launch<br />\n<br />\nTuesday\, June 11\, 2024\, 1 PM - 2 PM<br />\nFee: Free</strong><br />\n<br />\nHaving a solid\, well-defined business plan is essential for the success of your business\, and we&#39\;re excited to help you achieve it!&nbsp\;<br />\n<br />\nJoin us for an informative webinar led by two top experts\, Jocelyn Ring and Brian Moran\, who have decades of experience advising small business owners. They will guide you step-by-step through building a strong foundation for your business using a one-page business plan.&nbsp\;<br />\n<br />\nPlus\, you&#39\;ll receive a helpful PDF workbook to assist you throughout the process\, which you can download during the webinar. Don&#39\;t miss out on this opportunity to take your business to the next level!<br />\n<br />\n<a href="https://www.score.org/event/one-page-business-plan-kickstart-your-launch" target="_blank">Register Online</a>
LOCATION:Online Workshop
UID:e.1202.165604
SEQUENCE:3
DTSTAMP:20260422T231057Z
URL:https://business.cartersvillechamber.com/events/details/the-one-page-business-plan-kickstart-your-launch-online-workshop-165604
END:VEVENT

END:VCALENDAR
