BEGIN:VCALENDAR
VERSION:2.0
PRODID:-//ChamberMaster//Event Calendar 2.0//EN
METHOD:PUBLISH
X-PUBLISHED-TTL:P3D
REFRESH-INTERVAL:P3D
CALSCALE:GREGORIAN
BEGIN:VEVENT
DTSTART:20250220T220000Z
DTEND:20250221T010000Z
X-MICROSOFT-CDO-ALLDAYEVENT:FALSE
SUMMARY:Thirsty Thursday
DESCRIPTION:Enjoy a glass of beer or wine\n\nShare a bottle with friends\n\nDiscounts on all pours\n\nWith hundreds of bottles of wine to choose from\, hundreds of craft beers\; 12 craft beers on tap\, pick one and enjoy the nearing end of the week!
X-ALT-DESC;FMTTYPE=text/html:Enjoy a glass of beer or wine<br />\nShare a bottle with friends<br />\nDiscounts on all pours<br />\nWith hundreds of bottles of wine to choose from\, hundreds of craft beers\; 12 craft beers on tap\, pick one and enjoy the nearing end of the week!
LOCATION:Olive Tree & Vine 26 W Main St Cartersville
UID:e.1202.168223
SEQUENCE:3
DTSTAMP:20260422T115914Z
URL:https://business.cartersvillechamber.com/events/details/thirsty-thursday-01-23-2025-168223
END:VEVENT

END:VCALENDAR
