BEGIN:VCALENDAR
VERSION:2.0
PRODID:-//ChamberMaster//Event Calendar 2.0//EN
METHOD:PUBLISH
X-PUBLISHED-TTL:P3D
REFRESH-INTERVAL:P3D
CALSCALE:GREGORIAN
BEGIN:VEVENT
DTSTART:20250508T223000Z
DTEND:20250508T233000Z
X-MICROSOFT-CDO-ALLDAYEVENT:FALSE
SUMMARY:Thriving with PCOS
DESCRIPTION:Join us for an empowering PCOS workshop where we'll explore natural solutions to help balance hormones\, boost fertility\, and take control of your health- alongside our amazing guest speaker\, Dr. Kat\, Naturopathic Consultant! \nYou'll learn:\n\n- The root causes of PCOS\n\n- Natural remedies\, nutrition & lifestyle tools\n\n- How chiropractic + naturopathy work together to support hormone health\n\n- Real strategies for fertility\, digestion\, skin\, cycles & more!\n\n- Space is limited be sure to reserve your spot and invite a friend who needs this too!
X-ALT-DESC;FMTTYPE=text/html:Join us for an empowering PCOS workshop where we&#39\;ll explore natural solutions to help balance hormones\, boost fertility\, and take control of your health- alongside our amazing guest speaker\,&nbsp\;Dr. Kat\, Naturopathic Consultant!&nbsp\;\n<p>You&rsquo\;ll learn:<br />\n- The root causes of PCOS<br />\n- Natural remedies\, nutrition &amp\; lifestyle tools<br />\n- How chiropractic + naturopathy work together to support hormone health<br />\n- Real strategies for fertility\, digestion\, skin\, cycles &amp\; more!</p>\n\n<p>- Space is limited&mdash\;be sure to&nbsp\;<strong>reserve your spot</strong>&nbsp\;and invite a friend who needs this too!</p>\n<br />\n<br />\n&nbsp\;
LOCATION:Cultivate Health 1130 N. Tennessee St. Suite C Cartersville\, GA 30120 (Same red brick building as GA Farm Bureau)
UID:e.1202.170688
SEQUENCE:3
DTSTAMP:20260422T080310Z
URL:https://business.cartersvillechamber.com/events/details/thriving-with-pcos-170688
END:VEVENT

END:VCALENDAR
