BEGIN:VCALENDAR
VERSION:2.0
PRODID:-//ChamberMaster//Event Calendar 2.0//EN
METHOD:PUBLISH
X-PUBLISHED-TTL:P3D
REFRESH-INTERVAL:P3D
CALSCALE:GREGORIAN
BEGIN:VEVENT
DTSTART:20250628T180000Z
DTEND:20250629T003000Z
X-MICROSOFT-CDO-ALLDAYEVENT:FALSE
SUMMARY:Tireside Chats: Barn Finds with Tom Cotter
DESCRIPTION:Tireside Chats: Barn Finds with Tom Cotter\n\n\n\nSaturday\, June 28\, 2025\n\nProgram #1: 2:00 PM\, tickets required\n\nBook Signing: 4:00 PM\, tickets required\n\nReception: 5:00 PM\, tickets required\n\nProgram #2: 7:00 PM\, tickets required\n\n\n\nJoin us for a two part program with Tom Cotter\, aka the Barn Find Hunter. Tom is an author and TV personality who searches for forgotten cars in barns\, backyards\, and scrapyards. The first program will focus on his Cunningham\, then following a book signing and reception\, the second program will focus on his favorite discoveries from his TV show "Barn Find Hunter."\n\n\n\nThis event is presented by Styles Auto Care.\n\n\n\n2:00 PM\, Program #1: Buy Tickets\n\nCunningham: The Man & The Cars\n\nOn June 28\, 2025\, at 2:00 pm\, we invite you to a special presentation by Tom Cotter on a landmark in American automotive history: the Cunningham C-3\, widely regarded as America's first postwar sports car. Developed by Briggs Cunningham to meet homologation requirements for his celebrated Le Mans racecars\, the C-3 was an ambitious blend of American engineering and European craftsmanship. \n\n\n\nOn display will be Cotter's own C-3 - the second ever built - a remarkable machine with a fascinating past. Though once discovered as a humble barn find\, this car's journey is steeped in rich history and racing legacy. This is a rare opportunity to hear the full story from one of the most engaging storytellers in the collector car world. \n\n\n\n4:00 PM\, Book Signing\n\nBring your favorite Tom Cotter book or purchase "Secrets of the Barn Find Hunter" from the Gene Tilley Museum Store and have it signed by Tom from 4:00 - 5:00 pm in the Savoy Presentation Theatre. (While supplies and time last. First come first served). \n\n\n\nPlease note you must have a ticket to the 2:00 or 7:00 program in order to access the book signing.\n\n\n\n5:00 PM\, Reception: Buy Tickets\n\nJoin us for heavy hors d'oeuvres at 5:00 pm. Alcoholic drinks will be available for purchase. Socialize with friends or mingle with new acquaintances.\n\n\n\n7:00 PM\, Program #2: Buy Tickets\n\nA Barn Find Life\n\nThen\, beginning at 7:00 pm\, Tom Cotter will highlight the amazing human interest stories behind some of his favorite discoveries from his YouTube program\, Barn Find Hunter.
X-ALT-DESC;FMTTYPE=text/html:<strong><span style="font-size:18px\;">Tireside Chats: Barn Finds with Tom Cotter</span><br />\n<br />\n<span style="font-size:16px\;">Saturday\, June 28\, 2025</span></strong><br />\nProgram #1: 2:00 PM\, tickets required<br />\nBook Signing: 4:00 PM\, tickets required<br />\nReception: 5:00 PM\, tickets required<br />\nProgram #2: 7:00 PM\, tickets required<br />\n<br />\nJoin us for a two part program with Tom Cotter\, aka the Barn Find Hunter. Tom is an author and TV personality who searches for forgotten cars in barns\, backyards\, and scrapyards. The first program will focus on his Cunningham\, then following a book signing and reception\, the second program will focus on his favorite discoveries from his TV show &quot\;Barn Find Hunter.&quot\;<br />\n<br />\nThis event is presented by Styles Auto Care.<br />\n<br />\n<span style="font-size:16px\;"><strong>2:00 PM\, Program #1: <a href="https://79491.blackbaudhosting.com/79491/Tireside-Chats-Cunningham---The-Man-and-the-Cars" target="_blank">Buy Tickets</a></strong></span><br />\n<strong>Cunningham: The Man &amp\; The Cars</strong><br />\nOn June 28\, 2025\, at 2:00 pm\, we invite you to a special presentation by Tom Cotter on a landmark in American automotive history: the Cunningham C-3\, widely regarded as America&#39\;s first postwar sports car. Developed by Briggs Cunningham to meet homologation requirements for his celebrated Le Mans racecars\, the C-3 was an ambitious blend of American engineering and European craftsmanship.&nbsp\;<br />\n<br />\nOn display will be Cotter&#39\;s own C-3 - the second ever built - a remarkable machine with a fascinating past. Though once discovered as a humble barn find\, this car&#39\;s journey is steeped in rich history and racing legacy. This is a rare opportunity to hear the full story from one of the most engaging storytellers in the collector car world.&nbsp\;<br />\n<br />\n<span style="font-size:16px\;"><strong>4:00 PM\, Book Signing</strong></span><br />\nBring your favorite Tom Cotter book or purchase &quot\;Secrets of the Barn Find Hunter&quot\; from the Gene Tilley Museum Store and have it signed by Tom from 4:00 - 5:00 pm in the Savoy Presentation Theatre. (While supplies and time last. First come first served).&nbsp\;<br />\n<br />\n<em>Please note you must have a ticket to the 2:00 or 7:00 program in order to access the book signing.</em><br />\n<br />\n<span style="font-size:16px\;"><strong>5:00 PM\, Reception: <a href="https://79491.blackbaudhosting.com/79491/Tom-Cotter-Reception" target="_blank">Buy Tickets</a></strong></span><br />\nJoin us for heavy hors d&#39\;oeuvres at 5:00 pm. Alcoholic drinks will be available for purchase. Socialize with friends or mingle with new acquaintances.<br />\n<br />\n<span style="font-size:16px\;"><strong>7:00 PM\, Program #2: <a href="https://79491.blackbaudhosting.com/79491/Tireside-Chats-Barn-Finds" target="_blank">Buy Tickets</a></strong></span><br />\n<strong>A Barn Find Life</strong><br />\nThen\, beginning at 7:00 pm\, Tom Cotter will highlight the amazing human interest stories behind some of his favorite discoveries from his YouTube program\, Barn Find Hunter.
LOCATION:Savoy Automobile Museum 3 Savoy Lane Cartersville\, GA 30120
UID:e.1202.170941
SEQUENCE:3
DTSTAMP:20260422T063358Z
URL:https://business.cartersvillechamber.com/events/details/tireside-chats-barn-finds-with-tom-cotter-170941
END:VEVENT

END:VCALENDAR
