BEGIN:VCALENDAR
VERSION:2.0
PRODID:-//ChamberMaster//Event Calendar 2.0//EN
METHOD:PUBLISH
X-PUBLISHED-TTL:P3D
REFRESH-INTERVAL:P3D
CALSCALE:GREGORIAN
BEGIN:VEVENT
DTSTART:20251025T230000Z
DTEND:20251026T010000Z
X-MICROSOFT-CDO-ALLDAYEVENT:FALSE
SUMMARY:Tireside Chats: It's a Duesy!
DESCRIPTION:Tireside Chats: It's a Duesy!\n\n\n\nSaturday\, October 25\, 2025\, 7:00 PM - 9:00 PM\n\n\n\nAs the Great Depression dawned\, Fred and Augie Duesenberg teamed up to offer the greatest American luxury car they could imagine. With powerful engines proven on the racetracks\, styling by the world's finest coachbuilders\, and a vaunted customer list that resembled a "Who's Who?" of famous celebrities and captains of industry\, Duesenberg burst on the scene and immediately went to the head of the line. The marque's brief history and notable owners created a lasting reputation for the big\, bold cars from Indiana. Join Bill Rothermel and Ken Gross to hear more about "America's Mightiest Motor Car."\n\n\n\nJoin us for this fascinating program on October 25\, 2025\, at 7:00 pm in the Savoy Theatre.\n\n\n\nTickets:\n\nMuseum Members - Complimentary\n\nGeneral Public - Complimentary with museum admission \n\n \n\nThis event is sponsored in part by Styles Auto Care.
X-ALT-DESC;FMTTYPE=text/html:<strong>Tireside Chats: It&#39\;s a Duesy!<br />\n<br />\nSaturday\, October 25\, 2025\, 7:00 PM - 9:00 PM</strong><br />\n<br />\nAs the Great Depression dawned\, Fred and Augie Duesenberg teamed up to offer the greatest American luxury car they could imagine. With powerful engines proven on the racetracks\, styling by the world&rsquo\;s finest coachbuilders\, and a vaunted customer list that resembled a &ldquo\;Who&rsquo\;s Who?&rdquo\; of famous celebrities and captains of industry\, Duesenberg burst on the scene and immediately went to the head of the line. The marque&rsquo\;s brief history and notable owners created a lasting reputation for the big\, bold cars from Indiana. Join Bill Rothermel and Ken Gross to hear more about &ldquo\;America&rsquo\;s Mightiest Motor Car.&rdquo\;<br />\n<br />\nJoin us for this fascinating program on October 25\, 2025\, at 7:00 pm in the Savoy Theatre.<br />\n<br />\n<strong>Tickets:</strong><br />\n<strong>Museum Members </strong>- Complimentary<br />\n<strong>General Public </strong>- Complimentary with museum admission&nbsp\;<br />\n&nbsp\;<br />\nThis event is sponsored in part by Styles Auto Care.
LOCATION:Savoy Automobile Museum 3 Savoy Lane Cartersville\, GA 30120
UID:e.1202.171946
SEQUENCE:3
DTSTAMP:20260422T003939Z
URL:https://business.cartersvillechamber.com/events/details/tireside-chats-it-s-a-duesy-171946
END:VEVENT

END:VCALENDAR
