BEGIN:VCALENDAR
VERSION:2.0
PRODID:-//ChamberMaster//Event Calendar 2.0//EN
METHOD:PUBLISH
X-PUBLISHED-TTL:P3D
REFRESH-INTERVAL:P3D
CALSCALE:GREGORIAN
BEGIN:VEVENT
DTSTART:20250517T230000Z
DTEND:20250518T003000Z
X-MICROSOFT-CDO-ALLDAYEVENT:FALSE
SUMMARY:Tireside Chats: Studebaker - Over a Century on Wheels
DESCRIPTION:Tireside Chats: Studebaker - Over a Century on Wheels\n\n\n\nSaturday\, May 17\, 2025\, 7:00 PM\n\n\n\nOn May 17\, 2025\, at 7:00 pm\, join Studebaker National Museum Archivist Andrew Beckman for\, "Over a Century on Wheels\," a look at the Studebaker Corporation's long and distinguished history of transportation manufacturing.\n\n\n\nThe program will cover Studebaker's humble beginnings as a two-man blacksmith shop to its final days as an automobile manufacturer. Highlights will include the company's transition to automobiles\, its Indianapolis 500 racing program\, and a review of Studebaker's most iconic automobiles\, many of which are currently on display at the Savoy.\n\n\n\nTickets:\n\nMuseum Members - Complimentary\n\nGeneral Public - Complimentary with museum admission \n\n \n\nThis event is sponsored in part by Styles Auto Care and Tom & Ann Earley.
X-ALT-DESC;FMTTYPE=text/html:<strong>Tireside Chats: Studebaker - Over a Century on Wheels<br />\n<br />\nSaturday\, May 17\, 2025\, 7:00 PM</strong><br />\n<br />\nOn May 17\, 2025\, at 7:00 pm\, join Studebaker National Museum Archivist Andrew Beckman for\, &ldquo\;Over a Century on Wheels\,&rdquo\; a look at the Studebaker Corporation&rsquo\;s long and distinguished history of transportation manufacturing.<br />\n<br />\nThe program will cover Studebaker&rsquo\;s humble beginnings as a two-man blacksmith shop to its final days as an automobile manufacturer. Highlights will include the company&rsquo\;s transition to automobiles\, its Indianapolis 500 racing program\, and a review of Studebaker&rsquo\;s most iconic automobiles\, many of which are currently on display at the Savoy.<br />\n<br />\n<strong>Tickets:</strong><br />\n<strong>Museum Members </strong>- Complimentary<br />\n<strong>General Public </strong>- Complimentary with museum admission&nbsp\;<br />\n&nbsp\;<br />\nThis event is sponsored in part by Styles Auto Care and Tom &amp\; Ann Earley.
LOCATION:Savoy Automobile Museum 3 Savoy Lane Cartersville\, GA 30120
UID:e.1202.170763
SEQUENCE:3
DTSTAMP:20260422T080724Z
URL:https://business.cartersvillechamber.com/events/details/tireside-chats-studebaker-over-a-century-on-wheels-170763
END:VEVENT

END:VCALENDAR
