BEGIN:VCALENDAR
VERSION:2.0
PRODID:-//ChamberMaster//Event Calendar 2.0//EN
METHOD:PUBLISH
X-PUBLISHED-TTL:P3D
REFRESH-INTERVAL:P3D
CALSCALE:GREGORIAN
BEGIN:VEVENT
DTSTART:20250809T170000Z
DTEND:20250809T200000Z
X-MICROSOFT-CDO-ALLDAYEVENT:FALSE
SUMMARY:Tireside Chats: Tractor Wars
DESCRIPTION:Tireside Chats: Tractor Wars\n\n\n\nSaturday\, August 9\, 2025\n\n1:00 PM - 2:00 PM - Screening of the Documentary\n\n2:30 PM - 4:00 PM - Program\n\n\n\nNeil Dahlstrom has been the archivist and historian at John Deere for nearly 25-years. His latest award-winning book\, Tractor Wars\, was featured in documentaries on the History Channel and PBS\, the latter available nationally earlier this year. Join Neil as he discusses the PBS documentary\, research and writing during the pandemic\, discoveries on the origins of the farm tractor business\, and the unique personalities that led to competition and collaborations between farm equipment and automobile manufacturers.\n\n\n\nTickets:\n\nMuseum Members - Complimentary\n\nGeneral Public - Included with admission to the museum\n\n \n\nThis event is sponsored in part by Styles Auto Care.
X-ALT-DESC;FMTTYPE=text/html:<strong>Tireside Chats: Tractor Wars<br />\n<br />\nSaturday\, August 9\, 2025<br />\n1:00 PM - 2:00 PM - Screening of the Documentary<br />\n2:30 PM - 4:00 PM - Program</strong><br />\n<br />\nNeil Dahlstrom has been the archivist and historian at John Deere for nearly 25-years. His latest award-winning book\, Tractor Wars\, was featured in documentaries on the History Channel and PBS\, the latter available nationally earlier this year. Join Neil as he discusses the PBS documentary\, research and writing during the pandemic\, discoveries on the origins of the farm tractor business\, and the unique personalities that led to competition and collaborations between farm equipment and automobile manufacturers.<br />\n<br />\n<strong>Tickets:</strong><br />\n<strong>Museum Members</strong> - Complimentary<br />\n<strong>General Public</strong> - Included with admission to the museum<br />\n&nbsp\;<br />\nThis event is sponsored in part by Styles Auto Care.
LOCATION:Savoy Automobile Museum 3 Savoy Lane Cartersville\, GA 30120
UID:e.1202.171573
SEQUENCE:3
DTSTAMP:20260422T032828Z
URL:https://business.cartersvillechamber.com/events/details/tireside-chats-tractor-wars-171573
END:VEVENT

END:VCALENDAR
