BEGIN:VCALENDAR
VERSION:2.0
PRODID:-//ChamberMaster//Event Calendar 2.0//EN
METHOD:PUBLISH
X-PUBLISHED-TTL:P3D
REFRESH-INTERVAL:P3D
CALSCALE:GREGORIAN
BEGIN:VEVENT
DTSTART:20250201T000000Z
DTEND:20250201T020000Z
X-MICROSOFT-CDO-ALLDAYEVENT:FALSE
SUMMARY:Trivia: Let's Go Racing
DESCRIPTION:Trivia: Let's Go Racing\n\n\n\nFriday\, January 31\, 2025\, 7 PM\n\nSavoy Automobile Museum\n\n\n\nBoogity! Boogity! Boogity! Let's go racing! Grab your (pit) crew and join us for TRIVIA NIGHT at the MUSEUM as we race through questions focused on motorsports from NASCAR\, F1\, and IndyCar\, to rallies\, racing\, competition\, events\, drivers\, and history these questions are sure to lead you toward the finish line! Trivia begins at 7:00 pm in the Savoy Caf . Come in early to enjoy dinner\, cash bar\, and to check your team in for the event.\n\n\n\nCome early and join us for dinner! (Please note there is limited seating for this event. Individuals will be seated on a first come first served basis.)\n\n\n\nMuseum Members - Complimentary\n\nGeneral Public - Complimentary - Access to the museum requires admission.
X-ALT-DESC;FMTTYPE=text/html:<strong>Trivia: Let&#39\;s Go Racing</strong><br />\n<br />\nFriday\, January 31\, 2025\, 7 PM<br />\nSavoy Automobile Museum<br />\n<br />\nBoogity! Boogity! Boogity! Let&rsquo\;s go racing! Grab your (pit) crew and join us for TRIVIA NIGHT at the MUSEUM as we race through questions focused on motorsports&hellip\;from NASCAR\, F1\, and IndyCar\, to rallies\, racing\, competition\, events\, drivers\, and history&hellip\;these questions are sure to lead you toward the finish line! Trivia begins at 7:00 pm in the Savoy Caf&eacute\;. Come in early to enjoy dinner\, cash bar\, and to check your team in for the event.<br />\n<br />\nCome early and join us for dinner! (Please note there is limited seating for this event. Individuals will be seated on a first come first served basis.)<br />\n<br />\nMuseum Members - Complimentary<br />\nGeneral Public - Complimentary - Access to the museum requires admission.&nbsp\;
LOCATION:Savoy Automobile Museum 3 Savoy Lane Cartersville\, GA 30120
UID:e.1202.168082
SEQUENCE:3
DTSTAMP:20260422T132545Z
URL:https://business.cartersvillechamber.com/events/details/trivia-let-s-go-racing-168082
END:VEVENT

END:VCALENDAR
