BEGIN:VCALENDAR
VERSION:2.0
PRODID:-//ChamberMaster//Event Calendar 2.0//EN
METHOD:PUBLISH
X-PUBLISHED-TTL:P3D
REFRESH-INTERVAL:P3D
CALSCALE:GREGORIAN
BEGIN:VEVENT
DTSTART:20250805T220000Z
DTEND:20250805T230000Z
X-MICROSOFT-CDO-ALLDAYEVENT:FALSE
SUMMARY:Trivia Night at the Library
DESCRIPTION:Put your literary skills to the test by joining our Adult Trivia Night at the Library! How well do you actually know your Stephen King and Jane Austen? What about your genres? Let's find out! Registration is required. Register at the Reference Desk or give us a call at 770-382-4203. Teams of 3 are encouraged upon registration!
X-ALT-DESC;FMTTYPE=text/html:<span style="color:rgb(0\, 0\, 0)\; font-family:times new roman\,serif\; font-size:14.6667px">Put your literary skills to the test by joining our Adult Trivia Night at the Library! How well do you actually know your Stephen King and Jane Austen? What about your genres? Let&rsquo\;s find out! Registration is required. Register at the Reference Desk or give us a call at 770-382-4203. Teams of 3 are encouraged upon registration!&nbsp\;</span>
LOCATION:Cartersville Public Library
UID:e.1202.171580
SEQUENCE:3
DTSTAMP:20260422T032823Z
URL:https://business.cartersvillechamber.com/events/details/trivia-night-at-the-library-171580
END:VEVENT

END:VCALENDAR
