BEGIN:VCALENDAR
VERSION:2.0
PRODID:-//ChamberMaster//Event Calendar 2.0//EN
METHOD:PUBLISH
X-PUBLISHED-TTL:P3D
REFRESH-INTERVAL:P3D
CALSCALE:GREGORIAN
BEGIN:VEVENT
DTSTART:20240426T230000Z
DTEND:20240427T010000Z
X-MICROSOFT-CDO-ALLDAYEVENT:FALSE
SUMMARY:Trivia Night at the Museum
DESCRIPTION:Trivia Night at the Museum!\n\n\n\nFriday\, April 26\, 2024\, 7 PM\n\nSavoy Automobile Museum\n\n\n\nJoin us at 7:00 pm for trivia! This night's game will focus on movies and the cars in them. Bring your friends or car club members and compete to take home on of three gift certificates for the Savoy Caf . Make plans to arrive early and enjoy a meal with us before all the fun begins. To play trivia is complimentary. Regular general admission applies to tour the museum.
X-ALT-DESC;FMTTYPE=text/html:<strong>Trivia Night at the Museum!</strong><br />\n<br />\nFriday\, April 26\, 2024\, 7 PM<br />\nSavoy Automobile Museum<br />\n<br />\nJoin us at 7:00 pm for trivia! This night&#39\;s game will focus on movies and the cars in them. Bring your friends or car club members and compete to take home on of three gift certificates for the Savoy Caf&eacute\;. Make plans to arrive early and enjoy a meal with us before all the fun begins. To play trivia is complimentary. Regular general admission applies to tour the museum.
LOCATION:Savoy Automobile Museum 3 Savoy Lane Cartersville\, GA 30120
UID:e.1202.164332
SEQUENCE:3
DTSTAMP:20260423T021455Z
URL:https://business.cartersvillechamber.com/events/details/trivia-night-at-the-museum-164332
END:VEVENT

END:VCALENDAR
