BEGIN:VCALENDAR
VERSION:2.0
PRODID:-//ChamberMaster//Event Calendar 2.0//EN
METHOD:PUBLISH
X-PUBLISHED-TTL:P3D
REFRESH-INTERVAL:P3D
CALSCALE:GREGORIAN
BEGIN:VEVENT
DTSTART:20241025T230000Z
DTEND:20241026T010000Z
X-MICROSOFT-CDO-ALLDAYEVENT:FALSE
SUMMARY:Trivia Night at the Museum
DESCRIPTION:Trivia Night at the Museum!\n\n\n\nFriday\, October 25\, 2024\, 7 PM\n\nSavoy Automobile Museum\n\n\n\nJoin us on October 25\, 2024\, at 7:00 pm! Bring your family\, friends\, and fellow car enthusiasts as we dive into questions revolving around all-things-automotive...from movies and television to books\, music\, and sports\, automotive history and innovation\, as well as some Savoy specific questions.\n\n\n\nCome early and join us for dinner! (Please note there is limited seating for this event. Individuals will be seated on a first come first served basis.)\n\n\n\nMuseum Members - Complimentary\n\nGeneral Public - Complimentary - Access to the museum requires admission.
X-ALT-DESC;FMTTYPE=text/html:<strong>Trivia Night at the Museum!</strong><br />\n<br />\nFriday\, October 25\, 2024\, 7 PM<br />\nSavoy Automobile Museum<br />\n<br />\nJoin us on October 25\, 2024\, at 7:00 pm! Bring your family\, friends\, and fellow car enthusiasts as we dive into questions revolving around all-things-automotive...from movies and television to books\, music\, and sports\, automotive history and innovation\, as well as some Savoy specific questions.<br />\n<br />\nCome early and join us for dinner! (Please note there is limited seating for this event. Individuals will be seated on a first come first served basis.)<br />\n<br />\nMuseum Members - Complimentary<br />\nGeneral Public - Complimentary - Access to the museum requires admission.&nbsp\;
LOCATION:Savoy Automobile Museum 3 Savoy Lane Cartersville\, GA 30120
UID:e.1202.166928
SEQUENCE:3
DTSTAMP:20260422T172325Z
URL:https://business.cartersvillechamber.com/events/details/trivia-night-at-the-museum-166928
END:VEVENT

END:VCALENDAR
