BEGIN:VCALENDAR
VERSION:2.0
PRODID:-//ChamberMaster//Event Calendar 2.0//EN
METHOD:PUBLISH
X-PUBLISHED-TTL:P3D
REFRESH-INTERVAL:P3D
CALSCALE:GREGORIAN
BEGIN:VEVENT
DTSTART:20250502T230000Z
DTEND:20250503T010000Z
X-MICROSOFT-CDO-ALLDAYEVENT:FALSE
SUMMARY:Trivia Night at the Museum
DESCRIPTION:Trivia Night at the Museum!\n\n\n\nFriday\, May 2\, 2025\, 7 PM\n\nSavoy Automobile Museum\n\n\n\nJoin us for Trivia Night on May 2\, 2025\, at 7:00 pm!  All-Things-Automotive!\n\n\n\nGear up for an evening of food\, fun\, and fellowship with TRIVIA NIGHT at the MUSEUM! Grab your family\, friends\, and fellow car enthusiasts as we dive into questions revolving around All-Things-Automotive from movies and television\, to books\, music\, and sports\, automotive history and innovation\, as well as some Savoy-specific questions. Trivia begins at 7:00 pm in the Savoy Caf . Come in early to enjoy dinner\, cash bar\, and to check your team in for the event.\n\n\n\n(Please note there is limited seating for this event. Individuals will be seated on a first come first served basis.)\n\n\n\nMuseum Members - Complimentary\n\nGeneral Public - Complimentary - Access to the museum requires admission.
X-ALT-DESC;FMTTYPE=text/html:<strong>Trivia Night at the Museum!</strong><br />\n<br />\nFriday\, May 2\, 2025\, 7 PM<br />\nSavoy Automobile Museum<br />\n<br />\nJoin us for Trivia Night on May 2\, 2025\, at 7:00 pm!&nbsp\; All-Things-Automotive!<br />\n<br />\nGear up for an evening of food\, fun\, and fellowship with TRIVIA NIGHT at the MUSEUM! Grab your family\, friends\, and fellow car enthusiasts as we dive into questions revolving around All-Things-Automotive&hellip\;from movies and television\, to books\, music\, and sports\, automotive history and innovation\, as well as some Savoy-specific questions. Trivia begins at 7:00 pm in the Savoy Caf&eacute\;. Come in early to enjoy dinner\, cash bar\, and to check your team in for the event.<br />\n<br />\n(Please note there is limited seating for this event. Individuals will be seated on a first come first served basis.)<br />\n<br />\nMuseum Members - Complimentary<br />\nGeneral Public - Complimentary - Access to the museum requires admission.&nbsp\;
LOCATION:Savoy Automobile Museum 3 Savoy Lane Cartersville\, GA 30120
UID:e.1202.170761
SEQUENCE:3
DTSTAMP:20260422T080544Z
URL:https://business.cartersvillechamber.com/events/details/trivia-night-at-the-museum-170761
END:VEVENT

END:VCALENDAR
