BEGIN:VCALENDAR
VERSION:2.0
PRODID:-//ChamberMaster//Event Calendar 2.0//EN
METHOD:PUBLISH
X-PUBLISHED-TTL:P3D
REFRESH-INTERVAL:P3D
CALSCALE:GREGORIAN
BEGIN:VEVENT
DTSTART:20250401T220000Z
DTEND:20250402T020000Z
X-MICROSOFT-CDO-ALLDAYEVENT:FALSE
SUMMARY:Trivia-Sixes Tavern
DESCRIPTION:Come on in! Lets all be geeks who drink and win in-house cash prizes on Trivia Night at Sixes Tavern
X-ALT-DESC;FMTTYPE=text/html:Come on in! Lets all be geeks who drink and win in-house cash prizes on Trivia Night at Sixes Tavern
LOCATION:650 Henderson Dr. Cartersville\, GA 30120
UID:e.1202.170100
SEQUENCE:3
DTSTAMP:20260422T092000Z
URL:https://business.cartersvillechamber.com/events/details/trivia-sixes-tavern-04-01-2025-170100
END:VEVENT

END:VCALENDAR
