BEGIN:VCALENDAR
VERSION:2.0
PRODID:-//ChamberMaster//Event Calendar 2.0//EN
METHOD:PUBLISH
X-PUBLISHED-TTL:P3D
REFRESH-INTERVAL:P3D
CALSCALE:GREGORIAN
BEGIN:VEVENT
DTSTART:20240716T220000Z
DTEND:20240717T020000Z
X-MICROSOFT-CDO-ALLDAYEVENT:FALSE
SUMMARY:Trivia- Sixes Tavern
DESCRIPTION:Come on in! Let's all be geeks who drink and win in-house cash prizes on Trivia Night at Sixes Tavern!
X-ALT-DESC;FMTTYPE=text/html:Come on in! Let&#39\;s all be geeks who drink and win in-house cash prizes on Trivia Night at Sixes Tavern!
LOCATION:650 Henderson Dr Cartersville\, GA 30120
UID:e.1202.165951
SEQUENCE:3
DTSTAMP:20260422T214627Z
URL:https://business.cartersvillechamber.com/events/details/trivia-sixes-tavern-07-16-2024-165951
END:VEVENT

END:VCALENDAR
