BEGIN:VCALENDAR
VERSION:2.0
PRODID:-//ChamberMaster//Event Calendar 2.0//EN
METHOD:PUBLISH
X-PUBLISHED-TTL:P3D
REFRESH-INTERVAL:P3D
CALSCALE:GREGORIAN
BEGIN:VEVENT
DTSTART:20241022T230000Z
DTEND:20241023T020000Z
X-MICROSOFT-CDO-ALLDAYEVENT:FALSE
SUMMARY:Trivia- Sixes Tavern
DESCRIPTION:Come on in! Let's be geeks who drink & win in-house cash prizes on Trivia Night at Sixes Tavern!
X-ALT-DESC;FMTTYPE=text/html:Come on in! Let&#39\;s be geeks who drink &amp\; win in-house cash prizes on Trivia Night at Sixes Tavern!
LOCATION:650 Henderson Dr. Cartersville\, GA 30120
UID:e.1202.166321
SEQUENCE:3
DTSTAMP:20260422T170448Z
URL:https://business.cartersvillechamber.com/events/details/trivia-sixes-tavern-10-22-2024-166321
END:VEVENT

END:VCALENDAR
