BEGIN:VCALENDAR
VERSION:2.0
PRODID:-//ChamberMaster//Event Calendar 2.0//EN
METHOD:PUBLISH
X-PUBLISHED-TTL:P3D
REFRESH-INTERVAL:P3D
CALSCALE:GREGORIAN
BEGIN:VEVENT
DTSTART:20240618T230000Z
DTEND:20240619T020000Z
X-MICROSOFT-CDO-ALLDAYEVENT:FALSE
SUMMARY:Trivia- Sixes Tavern
DESCRIPTION:Don't Miss out on a fun night of Trivia! Top 3 winners win in-house cash prizes!
X-ALT-DESC;FMTTYPE=text/html:Don&#39\;t Miss out on a fun night of Trivia! Top 3 winners win in-house cash prizes!
LOCATION:650 Henderson Dr Cartersville\, GA 30120
UID:e.1202.165947
SEQUENCE:3
DTSTAMP:20260422T230854Z
URL:https://business.cartersvillechamber.com/events/details/trivia-sixes-tavern-165947
END:VEVENT

END:VCALENDAR
