BEGIN:VCALENDAR
VERSION:2.0
PRODID:-//ChamberMaster//Event Calendar 2.0//EN
METHOD:PUBLISH
X-PUBLISHED-TTL:P3D
REFRESH-INTERVAL:P3D
CALSCALE:GREGORIAN
BEGIN:VEVENT
DTSTART:20241026T183000Z
DTEND:20241026T203000Z
X-MICROSOFT-CDO-ALLDAYEVENT:FALSE
SUMMARY:Trunk or Treat
DESCRIPTION:Please join us for\n\nTrunk or Treat\n\n\n\nSaturday\, October 26\, 2024\n\n2:30 PM - 4:30 PM\n\n309 Belwood Road\, Calhoun\, GA 30701\n\n\n\nYou and your family are invited to join us for our Trick or Treat event! We will have multiple vehicles passing out candy for the kids and handing out fantastic prizes during our prize contest sponsored by TVFCU Mortgage! Our sales team will be on-site to answer any questions you have about the building Process and TVFCU can answer any questions about financing your new home!\n\n\n\nView event flyer.
X-ALT-DESC;FMTTYPE=text/html:<em>Please join us for</em><br />\n<strong>Trunk or Treat</strong><br />\n<br />\nSaturday\, October 26\, 2024<br />\n2:30 PM - 4:30 PM<br />\n309 Belwood Road\, Calhoun\, GA 30701<br />\n<br />\nYou and your family are invited to join us for our Trick or Treat event! We will have multiple vehicles passing out candy for the kids and handing out fantastic prizes during our prize contest sponsored by TVFCU Mortgage! Our sales team will be on-site to answer any questions you have about the building Process and TVFCU can answer any questions about financing your new home!<br />\n<br />\n<a href="https://chambermaster.blob.core.windows.net/userfiles/UserFiles/chambers/1202/File/Event_Docs/AHPTrunkorTreatFlyer2024.pdf" target="_blank">View event flyer</a>.
LOCATION:309 Belwood Road\, Calhoun\, GA 30701
UID:e.1202.167345
SEQUENCE:3
DTSTAMP:20260422T172104Z
URL:https://business.cartersvillechamber.com/events/details/trunk-or-treat-167345
END:VEVENT

END:VCALENDAR
