BEGIN:VCALENDAR
VERSION:2.0
PRODID:-//ChamberMaster//Event Calendar 2.0//EN
METHOD:PUBLISH
X-PUBLISHED-TTL:P3D
REFRESH-INTERVAL:P3D
CALSCALE:GREGORIAN
BEGIN:VEVENT
DTSTART:20251111T180000Z
DTEND:20251111T190000Z
X-MICROSOFT-CDO-ALLDAYEVENT:FALSE
SUMMARY:"Turn Your Expertise Into Income Part 3" Workshop
DESCRIPTION:"Turn Your Expertise Into Income Part 3" Workshop\n\n\n\nTuesday\, November 11\, 2025\, 1 PM - 2 PM\n\nFee: $15\n\n\n\nCreating a digital product is just the first step. To generate steady revenue\, you need an effective marketing strategy. With the right approach\, you can attract your ideal audience\, confidently promote your offerings\, and achieve consistent sales that will help grow your business.\n\n\n\nIn this webinar\, bestselling author and popular SCORE presenter Steve Strauss will break down proven methods for promoting and selling ebooks\, templates\, and courses. You'll learn simple but effective strategies to attract your ideal customers\, build trust\, and turn your digital products into a reliable revenue stream.\n\n\n\nHere is what you will learn:\n\n	How to build an audience before launching your product\n	Smart marketing strategies for ebooks\, courses\, and templates\n	Simple sales funnels that guide customers to buy\n	How to write sales copy that connects and converts\n	Creative ways to repurpose free content into paid products\n	Long-term strategies to keep sales coming in year after year\n\n\n\nRegister Online
X-ALT-DESC;FMTTYPE=text/html:<strong>&quot\;Turn Your Expertise Into Income Part 3</strong><strong>&quot\; Workshop<br />\n<br />\nTuesday\, November 11\, 2025\, 1 PM - 2 PM<br />\nFee: $15</strong><br />\n<br />\nCreating a digital product is just the first step. To generate steady revenue\, you need an effective marketing strategy. With the right approach\, you can attract your ideal audience\, confidently promote your offerings\, and achieve consistent sales that will help grow your business.<br />\n<br />\nIn this webinar\, bestselling author and popular SCORE presenter Steve Strauss will break down proven methods for promoting and selling ebooks\, templates\, and courses. You&rsquo\;ll learn simple but effective strategies to attract your ideal customers\, build trust\, and turn your digital products into a reliable revenue stream.<br />\n<br />\nHere is what you will learn:\n<ul>\n	<li>How to build an audience before launching your product</li>\n	<li>Smart marketing strategies for ebooks\, courses\, and templates</li>\n	<li>Simple sales funnels that guide customers to buy</li>\n	<li>How to write sales copy that connects and converts</li>\n	<li>Creative ways to repurpose free content into paid products</li>\n	<li>Long-term strategies to keep sales coming in year after year</li>\n</ul>\n<br />\n<a href="https://www.score.org/event/turn-your-expertise-income-part-3-how-market-and-sell-your-digital-products" target="_blank"><strong>Register Online</strong></a>
LOCATION:Online Workshop
UID:e.1202.171977
SEQUENCE:3
DTSTAMP:20260421T231517Z
URL:https://business.cartersvillechamber.com/events/details/turn-your-expertise-into-income-part-3-workshop-171977
END:VEVENT

END:VCALENDAR
