BEGIN:VCALENDAR
VERSION:2.0
PRODID:-//ChamberMaster//Event Calendar 2.0//EN
METHOD:PUBLISH
X-PUBLISHED-TTL:P3D
REFRESH-INTERVAL:P3D
CALSCALE:GREGORIAN
BEGIN:VEVENT
DTSTART:20250926T140000Z
DTEND:20250926T150000Z
X-MICROSOFT-CDO-ALLDAYEVENT:FALSE
SUMMARY:Typing Basics
DESCRIPTION:Want to improve your typing skills? Join us in the lab for an interactive keyboarding tutorial using LearningExpress. You'll learn about this free resource and how to sign into the program from any computer using your library card.  Adults only please.
X-ALT-DESC;FMTTYPE=text/html:<span style="color:rgb(31\, 31\, 31)\; font-family:roboto\,helvetica\,arial\,sans-serif\; font-size:14px">Want to improve your typing skills? Join us in the lab for an interactive keyboarding tutorial using LearningExpress. You&#39\;ll learn about this free resource and how to sign into the program from any computer using your library card.&nbsp\; Adults only please.</span>\n<div>&nbsp\;</div>\n
LOCATION:Cartersville Public Library Computer Lab
UID:e.1202.171799
SEQUENCE:3
DTSTAMP:20260422T020600Z
URL:https://business.cartersvillechamber.com/events/details/typing-basics-171799
END:VEVENT

END:VCALENDAR
