BEGIN:VCALENDAR
VERSION:2.0
PRODID:-//ChamberMaster//Event Calendar 2.0//EN
METHOD:PUBLISH
X-PUBLISHED-TTL:P3D
REFRESH-INTERVAL:P3D
CALSCALE:GREGORIAN
BEGIN:VEVENT
DTSTART:20240718T220000Z
DTEND:20240719T000000Z
X-MICROSOFT-CDO-ALLDAYEVENT:FALSE
SUMMARY:Understanding and Improving Your Credit Score
DESCRIPTION:Free and informative workshop regarding credit score! This is a great workshop and offered at a great time of the year. Learn about the different levels of FICO credit\, what is a good credit\, and so much more! Open and free to all interested!
X-ALT-DESC;FMTTYPE=text/html:Free and informative workshop regarding credit score! This is a great workshop and offered at a great time of the year. Learn about the different levels of FICO credit\, what is a good credit\, and so much more! Open and free to all interested!
LOCATION:Stiles Auditorium 320 W. Cherokee Ave. Cartersville\, GA 30120
UID:e.1202.165993
SEQUENCE:3
DTSTAMP:20260422T214401Z
URL:https://business.cartersvillechamber.com/events/details/understanding-and-improving-your-credit-score-165993
END:VEVENT

END:VCALENDAR
