BEGIN:VCALENDAR
VERSION:2.0
PRODID:-//ChamberMaster//Event Calendar 2.0//EN
METHOD:PUBLISH
X-PUBLISHED-TTL:P3D
REFRESH-INTERVAL:P3D
CALSCALE:GREGORIAN
BEGIN:VEVENT
DTSTART:20250409T140000Z
DTEND:20250409T160000Z
X-MICROSOFT-CDO-ALLDAYEVENT:FALSE
SUMMARY:Understanding Brain Changes with Alzheimer's / Dementia
DESCRIPTION:* Warning signs of the disease * How the disease is changing the brain   Why get an early diagnosis - What then?   Caring for the Caregiver   Taking care of the one giving care!   Home\, Safe\, Home Call to reserve your seat: Debra 574-210-7505
X-ALT-DESC;FMTTYPE=text/html:* Warning signs of the disease * How the disease is changing the brain &bull\; Why get an early diagnosis - What then? &bull\; Caring for the Caregiver &ndash\; Taking care of the one giving care! &bull\; Home\, Safe\, Home Call to reserve your seat: Debra 574-210-7505
LOCATION:606 Cassville Rd Friendship Baptist Church
UID:e.1202.170662
SEQUENCE:3
DTSTAMP:20260422T091551Z
URL:https://business.cartersvillechamber.com/events/details/understanding-brain-changes-with-alzheimer-s-dementia-170662
END:VEVENT

END:VCALENDAR
