BEGIN:VCALENDAR
VERSION:2.0
PRODID:-//ChamberMaster//Event Calendar 2.0//EN
METHOD:PUBLISH
X-PUBLISHED-TTL:P3D
REFRESH-INTERVAL:P3D
CALSCALE:GREGORIAN
BEGIN:VEVENT
DTSTART:20240918T140000Z
DTEND:20240918T160000Z
X-MICROSOFT-CDO-ALLDAYEVENT:FALSE
SUMMARY:"Unlocking Your Business’ Potential" Workshop
DESCRIPTION:"Unlocking Your Business' Potential" Workshop\n\n\n\nWednesday\, September 18\, 2024\, 10 AM\n\nFee: Free\n\n\n\nJoin us for an insightful webinar designed to help you unlock your business's full potential through effective coaching and consultation. This comprehensive guide will walk you through the fundamentals of business coaching and consultation\, helping you determine if your business could benefit from these services and what to expect. You will learn how to select the right coach or consultant tailored to your specific needs and explore their key areas of focus. \n\n\n\nThe webinar will cover the typical coaching and consultation process\, providing a clear roadmap from initial assessment to actionable strategies. Additionally\, we will introduce you to common tools and techniques used by industry experts to enhance business performance. Whether you are a small business owner\, an entrepreneur\, or an executive\, this webinar will equip you with the knowledge and resources to take your business to the next level.\n\n\n\nWhat will be covered:\n\n	Understanding business coaching and consultation\n	Assessing your need for coaching and/or consultation / Do you need it?\n	How to choose the right business coach or consultant for your company\n	What are the key areas of focus in coaching and consultation\n	What is the typical coaching and consultation process\n	Common tools used by coaches and consultants\n\n\n\nRegister Online
X-ALT-DESC;FMTTYPE=text/html:<strong>&quot\;Unlocking Your Business&rsquo\; Potential</strong><strong>&quot\; Workshop<br />\n<br />\nWednesday\, September 18\, 2024\, 10 AM<br />\nFee: Free</strong><br />\n<br />\nJoin us for an insightful webinar designed to help you unlock your business&rsquo\;s full potential through effective coaching and consultation. This comprehensive guide will walk you through the fundamentals of business coaching and consultation\, helping you determine if your business could benefit from these services and what to expect. You will learn how to select the right coach or consultant tailored to your specific needs and explore their key areas of focus.&nbsp\;<br />\n<br />\nThe webinar will cover the typical coaching and consultation process\, providing a clear roadmap from initial assessment to actionable strategies. Additionally\, we will introduce you to common tools and techniques used by industry experts to enhance business performance. Whether you are a small business owner\, an entrepreneur\, or an executive\, this webinar will equip you with the knowledge and resources to take your business to the next level.<br />\n<br />\nWhat will be covered:\n<ul>\n	<li>Understanding business coaching and consultation</li>\n	<li>Assessing your need for coaching and/or consultation / Do you need it?</li>\n	<li>How to choose the right business coach or consultant for your company</li>\n	<li>What are the key areas of focus in coaching and consultation</li>\n	<li>What is the typical coaching and consultation process</li>\n	<li>Common tools used by coaches and consultants</li>\n</ul>\n<br />\n<a href="https://www.score.org/northmetroatlanta/event/unlocking-your-business%E2%80%99-potential-a-guide-using-bus-coaching-and" target="_blank"><strong>Register Online</strong></a>
LOCATION:Online Workshop
UID:e.1202.166180
SEQUENCE:3
DTSTAMP:20260422T185234Z
URL:https://business.cartersvillechamber.com/events/details/unlocking-your-business-potential-workshop-166180
END:VEVENT

END:VCALENDAR
