BEGIN:VCALENDAR
VERSION:2.0
PRODID:-//ChamberMaster//Event Calendar 2.0//EN
METHOD:PUBLISH
X-PUBLISHED-TTL:P3D
REFRESH-INTERVAL:P3D
CALSCALE:GREGORIAN
BEGIN:VEVENT
DTSTART:20240628T140000Z
DTEND:20240628T160000Z
X-MICROSOFT-CDO-ALLDAYEVENT:FALSE
SUMMARY:"Using Canva to Design Professional Social Media Graphics" Online Workshop
DESCRIPTION:"Using Canva to Design Professional Social Media Graphics" Online Workshop\n\n\n\nFriday\, June 28\, 2024\, 10:00 AM - 12:00 PM\n\nFee: Free\n\n\n\nNo training? No Problem!\n\n\n\nWish you could create eye-catching posts\, impactful ads\, banners\, or covers for your social media platforms\, but lack graphic design experience?\n\n\n\nIn this Live Online Workshop you will be shown how to create professional images using Canva.com\, a free and easy to use graphic design tool.\n\n\n\nCanva's platform\, built for the novice\, has more than 50\,000 ready to use templates that can help you design almost anything from brochures\, business cards\, posters\, presentations\, and more.\n\n\n\nIn this tutorial\, the focus will be on showing you how to use Canva to create designs for social media\, such as:\n\n	Facebook covers\, posts\, and ads\n	LinkedIn posts and banners\n	Instagram posts and stories\n\n\n\nThe Workshop will also cover:\n\n	Getting started with a free CANVA account\n	Choosing from over 50\,000 ready to use templates for al your marketing material\n	Uploading your own photos\, logos\, and images\n	Choosing from CANVA's gallery of photos\n	Adding text to your designs\n\n\n\nYou will leave amazed at the professional quality marketing materials that you can create.\n\n\n\nRegister Online
X-ALT-DESC;FMTTYPE=text/html:<strong>&quot\;Using Canva to Design Professional Social Media Graphics&quot\; Online Workshop</strong><br />\n<br />\nFriday\, June 28\, 2024\,&nbsp\;10:00 AM - 12:00 PM<br />\nFee: Free<br />\n<br />\nNo training? No Problem!<br />\n<br />\nWish you could create eye-catching posts\, impactful ads\, banners\, or covers for your social media platforms\, but lack graphic design experience?<br />\n<br />\nIn this Live Online Workshop you will be shown how to create professional images using Canva.com\, a free and easy to use graphic design tool.<br />\n<br />\nCanva&rsquo\;s platform\, built for the novice\, has more than 50\,000 ready to use templates that can help you design almost anything from brochures\, business cards\, posters\, presentations\, and more.<br />\n<br />\nIn this tutorial\, the focus will be on showing you how to use Canva to create designs for social media\, such as:\n<ul>\n	<li>Facebook covers\, posts\, and ads</li>\n	<li>LinkedIn posts and banners</li>\n	<li>Instagram posts and stories</li>\n</ul>\n<br />\nThe Workshop will also cover:\n<ul>\n	<li>Getting started with a free CANVA account</li>\n	<li>Choosing from over 50\,000 ready to use templates for al your marketing material</li>\n	<li>Uploading your own photos\, logos\, and images</li>\n	<li>Choosing from CANVA&rsquo\;s gallery of photos</li>\n	<li>Adding text to your designs</li>\n</ul>\n<br />\nYou will leave amazed at the professional quality marketing materials that you can create.<br />\n<br />\n<a href="https://www.score.org/northmetroatlanta/event/using-canva-design-professional-social-media-graphics" target="_blank">Register Online</a>
LOCATION:Online Workshop
UID:e.1202.165607
SEQUENCE:3
DTSTAMP:20260422T231022Z
URL:https://business.cartersvillechamber.com/events/details/using-canva-to-design-professional-social-media-graphics-online-workshop-165607
END:VEVENT

END:VCALENDAR
