BEGIN:VCALENDAR
VERSION:2.0
PRODID:-//ChamberMaster//Event Calendar 2.0//EN
METHOD:PUBLISH
X-PUBLISHED-TTL:P3D
REFRESH-INTERVAL:P3D
CALSCALE:GREGORIAN
BEGIN:VEVENT
DTSTART:20260212T143000Z
DTEND:20260212T153000Z
X-MICROSOFT-CDO-ALLDAYEVENT:FALSE
SUMMARY:Veteran's Coffee & Company
DESCRIPTION:We invite all Veterans to join us for coffee\, camaraderie\, and conversation on the second Thursday of every month.\n\nProudly hosted by Transitions Hospice Care and the Rome-Floyd County Library\, this gathering offers Veterans a welcoming space to share stories\, connect with one another\, and enjoy our hospitality.\n\n#WeHonorVeterans
X-ALT-DESC;FMTTYPE=text/html:<span style="font-size:14px"><span dir="auto">We invite all Veterans to join us for coffee\, camaraderie\, and conversation on the second Thursday of every month.<br />\nProudly hosted by Transitions Hospice Care and the Rome-Floyd County Library\, this gathering offers Veterans a welcoming space to share stories\, connect with one another\, and enjoy our hospitality.<br />\n<strong>#WeHonorVeterans</strong></span></span><br />\n&nbsp\;
LOCATION:Rome-Floyd County Library (Sara Hightower Regional Library System) 205 Riverside Parkway\, 2nd Floor Rome GA 30161
UID:e.1202.173063
SEQUENCE:3
DTSTAMP:20260421T185533Z
URL:https://business.cartersvillechamber.com/events/details/veteran-s-coffee-company-173063
END:VEVENT

END:VCALENDAR
