BEGIN:VCALENDAR
VERSION:2.0
PRODID:-//ChamberMaster//Event Calendar 2.0//EN
METHOD:PUBLISH
X-PUBLISHED-TTL:P3D
REFRESH-INTERVAL:P3D
CALSCALE:GREGORIAN
BEGIN:VEVENT
DTSTART:20251111T140000Z
DTEND:20251111T160000Z
X-MICROSOFT-CDO-ALLDAYEVENT:FALSE
SUMMARY:Veterans Day Ceremony
DESCRIPTION:Veterans Day Ceremony\n\n\n\nTuesday\, November 11\, 2025\, 9 AM - 11 AM\n\nAdairsville Elementary School Cafeteria
X-ALT-DESC;FMTTYPE=text/html:Veterans Day Ceremony<br />\n<br />\nTuesday\, November 11\, 2025\, 9 AM - 11 AM<br />\nAdairsville Elementary School Cafeteria
LOCATION:Adairsville Elementary School Cafeteria
UID:e.1202.172035
SEQUENCE:3
DTSTAMP:20260421T231111Z
URL:https://business.cartersvillechamber.com/events/details/veterans-day-ceremony-172035
END:VEVENT

END:VCALENDAR
