BEGIN:VCALENDAR
VERSION:2.0
PRODID:-//ChamberMaster//Event Calendar 2.0//EN
METHOD:PUBLISH
X-PUBLISHED-TTL:P3D
REFRESH-INTERVAL:P3D
CALSCALE:GREGORIAN
BEGIN:VEVENT
DTSTART:20250215T230000Z
DTEND:20250216T010000Z
X-MICROSOFT-CDO-ALLDAYEVENT:FALSE
SUMMARY:White Glove: Cartersville’s Curiosities
DESCRIPTION:Celebrate Cartersville's 175th Anniversary with a Unique Hands-On History Event! Join the Bartow History Museum for an exclusive evening to celebrate Cartersville's 175th anniversary. This event offers a rare chance to wear white gloves and handle fascinating\, rarely seen artifacts from the museum's collection. Tour the galleries\, uncover the intriguing stories behind these historical treasures\, and savor hors d'oeuvres and wine during this elegant evening. Perfect for history enthusiasts\, this program connects you with Cartersville's rich past in an unforgettable way. Reserve your spot by Wednesday\, February 12. Guests must be 21 or older.
X-ALT-DESC;FMTTYPE=text/html:Celebrate Cartersville&rsquo\;s 175th Anniversary with a Unique Hands-On History Event! Join the Bartow History Museum for an exclusive evening to celebrate Cartersville&rsquo\;s 175th anniversary. This event offers a rare chance to wear white gloves and handle fascinating\, rarely seen artifacts from the museum&rsquo\;s collection. Tour the galleries\, uncover the intriguing stories behind these historical treasures\, and savor hors d&rsquo\;oeuvres and wine during this elegant evening. Perfect for history enthusiasts\, this program connects you with Cartersville&rsquo\;s rich past in an unforgettable way. Reserve your spot by Wednesday\, February 12. Guests must be 21 or older.
LOCATION:4 E Church St Cartersville\, GA 30120
UID:e.1202.168268
SEQUENCE:3
DTSTAMP:20260422T120107Z
URL:https://business.cartersvillechamber.com/events/details/white-glove-cartersville-s-curiosities-168268
END:VEVENT

END:VCALENDAR
