BEGIN:VCALENDAR
VERSION:2.0
PRODID:-//ChamberMaster//Event Calendar 2.0//EN
METHOD:PUBLISH
X-PUBLISHED-TTL:P3D
REFRESH-INTERVAL:P3D
CALSCALE:GREGORIAN
BEGIN:VEVENT
DTSTART:20250716T220000Z
DTEND:20250717T000000Z
X-MICROSOFT-CDO-ALLDAYEVENT:FALSE
SUMMARY:Wicked Weed Tap Takeover
DESCRIPTION:Wicked Weed brewing will be featuring some of their favorites on tap tonight at Olive Tree & Vine
X-ALT-DESC;FMTTYPE=text/html:Wicked Weed brewing will be featuring some of their favorites on tap tonight at Olive Tree &amp\; Vine<br />\n&nbsp\;
LOCATION:Olive Tree & Vine 26 W Main St Cartersville\, Ga
UID:e.1202.171540
SEQUENCE:3
DTSTAMP:20260422T050216Z
URL:https://business.cartersvillechamber.com/events/details/wicked-weed-tap-takeover-171540
END:VEVENT

END:VCALENDAR
