BEGIN:VCALENDAR
VERSION:2.0
PRODID:-//ChamberMaster//Event Calendar 2.0//EN
METHOD:PUBLISH
X-PUBLISHED-TTL:P3D
REFRESH-INTERVAL:P3D
CALSCALE:GREGORIAN
BEGIN:VEVENT
DTSTART:20250214T233000Z
DTEND:20250215T013000Z
X-MICROSOFT-CDO-ALLDAYEVENT:FALSE
SUMMARY:Wine 101 with David
DESCRIPTION:Wine 101 is a tour of the world through wine! \n\nThis month we will be tasting the wines of Chile\n\nIncludes a beautiful Chilian wines\, Charcuterie and chocolate\n\nLead by our local Sommelier David Hulsey
X-ALT-DESC;FMTTYPE=text/html:Wine 101 is a tour of the world through wine!&nbsp\;<br />\nThis month we will be tasting the wines of Chile<br />\nIncludes a beautiful Chilian wines\, Charcuterie and chocolate<br />\nLead by our local Sommelier David Hulsey
LOCATION:Olive Tree & Vine 26 W Main St Cartersville
UID:e.1202.168217
SEQUENCE:3
DTSTAMP:20260422T115331Z
URL:https://business.cartersvillechamber.com/events/details/wine-101-with-david-168217
END:VEVENT

END:VCALENDAR
