BEGIN:VCALENDAR
VERSION:2.0
PRODID:-//ChamberMaster//Event Calendar 2.0//EN
METHOD:PUBLISH
X-PUBLISHED-TTL:P3D
REFRESH-INTERVAL:P3D
CALSCALE:GREGORIAN
BEGIN:VEVENT
DTSTART:20250725T223000Z
DTEND:20250726T003000Z
X-MICROSOFT-CDO-ALLDAYEVENT:FALSE
SUMMARY:Wine 101 with David Wine Tasting
DESCRIPTION:Wine 101 is a tour of the world through wine! \n\nThis month we will be tasting Sparkling Wines from various regions\n\n \n\nLead by our local Sommelier David Hulsey
X-ALT-DESC;FMTTYPE=text/html:Wine 101 is a tour of the world through wine!&nbsp\;<br />\nThis month we will be tasting Sparkling Wines from various regions<br />\n&nbsp\;<br />\nLead by our local Sommelier David Hulsey
LOCATION:Olive Tree & Vine 26 W Main St Cartersville
UID:e.1202.171543
SEQUENCE:3
DTSTAMP:20260422T050048Z
URL:https://business.cartersvillechamber.com/events/details/wine-101-with-david-wine-tasting-171543
END:VEVENT

END:VCALENDAR
