BEGIN:VCALENDAR
VERSION:2.0
PRODID:-//ChamberMaster//Event Calendar 2.0//EN
METHOD:PUBLISH
X-PUBLISHED-TTL:P3D
REFRESH-INTERVAL:P3D
CALSCALE:GREGORIAN
BEGIN:VEVENT
DTSTART;VALUE=DATE:20250217
DTEND;VALUE=DATE:20250222
TRANSP:TRANSPARENT
X-MICROSOFT-CDO-ALLDAYEVENT:TRUE
SUMMARY:Winter Break
DESCRIPTION:Monday through Wednesday interact with the "live" dinosaurs from Prehistoric Nation\, and make sure to catch Wednesday's Lunch + Learn to hear about the creative process behind Prehistoric Nation's costumes and learn about the inspiration that brought these characters to life! Thursday brings special visits from GPB's Buddy the Dinosaur\, and Friday wraps up with the Georgia Reptile Society showcasing real reptiles in our Banquet Rooms. Plus\, check out our special dinosaur-themed planetarium shows and interactive stations with the Tellus Blue Crew.
X-ALT-DESC;FMTTYPE=text/html:Monday through Wednesday interact with the &ldquo\;live&rdquo\; dinosaurs from Prehistoric Nation\, and make sure to catch Wednesday&rsquo\;s Lunch + Learn to hear about the creative process behind Prehistoric Nation&rsquo\;s costumes and learn about the inspiration that brought these characters to life! Thursday brings special visits from GPB&rsquo\;s Buddy the Dinosaur\, and Friday wraps up with the Georgia Reptile Society showcasing real reptiles in our Banquet Rooms. Plus\, check out our special dinosaur-themed planetarium shows and interactive stations with the Tellus Blue Crew.
LOCATION:Tellus Science Museum
UID:e.1202.168077
SEQUENCE:3
DTSTAMP:20260422T114526Z
URL:https://business.cartersvillechamber.com/events/details/winter-break-168077
END:VEVENT

END:VCALENDAR
