BEGIN:VCALENDAR
VERSION:2.0
PRODID:-//ChamberMaster//Event Calendar 2.0//EN
METHOD:PUBLISH
X-PUBLISHED-TTL:P3D
REFRESH-INTERVAL:P3D
CALSCALE:GREGORIAN
BEGIN:VEVENT
DTSTART:20251002T210000Z
DTEND:20251003T000000Z
X-MICROSOFT-CDO-ALLDAYEVENT:FALSE
SUMMARY:Witches Night Out
DESCRIPTION:Witches Night Out\n\n\n\nThursday\, October 2\, 2025\, 5 PM - 8 PM\n\nDowntown Cartersville\n\n\n\nWitches Night Out is back! Dust off your broomstick\, grab your hat\, and enjoy a night of shopping\, dining\, and special offers all over downtown.
X-ALT-DESC;FMTTYPE=text/html:Witches Night Out<br />\n<br />\nThursday\, October 2\, 2025\, 5 PM - 8 PM<br />\nDowntown Cartersville<br />\n<br />\nWitches Night Out is back! Dust off your broomstick\, grab your hat\, and enjoy a night of shopping\, dining\, and special offers all over downtown.
LOCATION:Downtown Cartersville
UID:e.1202.171808
SEQUENCE:3
DTSTAMP:20260422T003622Z
URL:https://business.cartersvillechamber.com/events/details/witches-night-out-171808
END:VEVENT

END:VCALENDAR
