BEGIN:VCALENDAR
VERSION:2.0
PRODID:-//ChamberMaster//Event Calendar 2.0//EN
METHOD:PUBLISH
X-PUBLISHED-TTL:P3D
REFRESH-INTERVAL:P3D
CALSCALE:GREGORIAN
BEGIN:VEVENT
DTSTART:20241130T180000Z
DTEND:20241130T200000Z
X-MICROSOFT-CDO-ALLDAYEVENT:FALSE
SUMMARY:Wreath Crafting Workshop at Barnsley Resort
DESCRIPTION:Wreath Crafting Workshop Nov 30 1 - 3 p.m. | Saylor Hall Terrace Create your own holiday wreath inspired by nature and the festive season. This year's holiday wreath begins with a grapevine frame to adorn with greenery cut from the grounds at Barnsley Resort. Local gardening experts are available to share stories about local flora and fauna while providing assistance with creating a beautiful holiday wreath. Book online now! $65 per wreath Price excludes 7% tax and 20% service charge.
X-ALT-DESC;FMTTYPE=text/html:Wreath Crafting Workshop Nov 30 1 - 3 p.m. | Saylor Hall Terrace Create your own holiday wreath inspired by nature and the festive season. This year&rsquo\;s holiday wreath begins with a grapevine frame to adorn with greenery cut from the grounds at Barnsley Resort. Local gardening experts are available to share stories about local flora and fauna while providing assistance with creating a beautiful holiday wreath. Book online now! $65 per wreath Price excludes 7% tax and 20% service charge.
LOCATION:597 Barnsley Gardens Rd NW\, Adairsville\, Ga 30103
UID:e.1202.166921
SEQUENCE:3
DTSTAMP:20260422T155435Z
URL:https://business.cartersvillechamber.com/events/details/wreath-crafting-workshop-at-barnsley-resort-166921
END:VEVENT

END:VCALENDAR
