BEGIN:VCALENDAR
VERSION:2.0
PRODID:-//ChamberMaster//Event Calendar 2.0//EN
METHOD:PUBLISH
X-PUBLISHED-TTL:P3D
REFRESH-INTERVAL:P3D
CALSCALE:GREGORIAN
BEGIN:VEVENT
DTSTART:20251108T150000Z
DTEND:20251108T160000Z
X-MICROSOFT-CDO-ALLDAYEVENT:FALSE
SUMMARY:Writer's Group
DESCRIPTION:Are you passionate about storytelling\, poetry\, memoirs\, or any form of creative writing? Whether you're just starting out or already published\, this group is for you!\n\n\n\nWriters of all skill levels and all genres are welcome to participate.\n\n\n\nFacilitated by Joan Kellogg\, Artist\, Author\, InDesign Specialist
X-ALT-DESC;FMTTYPE=text/html:<span style="color:rgb(62\, 62\, 62)\; font-family:system-ui\; font-size:12.8px">Are you passionate about storytelling\, poetry\, memoirs\, or any form of creative writing? Whether you&#39\;re just starting out or already published\, this group is for you!</span><br />\n<br />\n<span style="color:rgb(62\, 62\, 62)\; font-family:system-ui\; font-size:12.8px">Writers of all skill levels and all genres are welcome to participate.</span><br />\n<br />\n<span style="color:rgb(62\, 62\, 62)\; font-family:system-ui\; font-size:12.8px">Facilitated by Joan Kellogg\, Artist\, Author\, InDesign Specialist</span>
LOCATION:Cartersville Public Library 429 W Main St Cartersville\, GA 30121
UID:e.1202.172013
SEQUENCE:3
DTSTAMP:20260421T230723Z
URL:https://business.cartersvillechamber.com/events/details/writer-s-group-172013
END:VEVENT

END:VCALENDAR
