BEGIN:VCALENDAR
VERSION:2.0
PRODID:-//ChamberMaster//Event Calendar 2.0//EN
METHOD:PUBLISH
X-PUBLISHED-TTL:P3D
REFRESH-INTERVAL:P3D
CALSCALE:GREGORIAN
BEGIN:VEVENT
DTSTART:20251004T140000Z
DTEND:20251004T150000Z
X-MICROSOFT-CDO-ALLDAYEVENT:FALSE
SUMMARY:Writers Group
DESCRIPTION:Are you passionate about storytelling\, poetry\, memoirs\, or any form of creative writing? Whether you're just starting out or already published\, this group is for you!\n\n\n\nWriters of all skill levels and all genres are welcome to participate.\n\n\n\nFacilitated by Joan Kellogg\, Artist\, Author\, InDesign Specialist
X-ALT-DESC;FMTTYPE=text/html:<span style="color:rgb(0\, 0\, 0)\; font-family:arial\,helvetica\,sans-serif\; font-size:small">Are you passionate about storytelling\, poetry\, memoirs\, or any form of creative writing? Whether you&#39\;re just starting out or already published\, this group is for you!</span><br />\n<br />\n<span style="color:rgb(0\, 0\, 0)\; font-family:arial\,helvetica\,sans-serif\; font-size:small">Writers of all skill levels and all genres are welcome to participate.</span><br />\n<br />\n<span style="color:rgb(0\, 0\, 0)\; font-family:arial\,helvetica\,sans-serif\; font-size:small">Facilitated by Joan Kellogg\, Artist\, Author\, InDesign Specialist</span>
LOCATION:Cartersville Public Library
UID:e.1202.171881
SEQUENCE:3
DTSTAMP:20260422T003449Z
URL:https://business.cartersvillechamber.com/events/details/writers-group-171881
END:VEVENT

END:VCALENDAR
