BEGIN:VCALENDAR
VERSION:2.0
PRODID:-//ChamberMaster//Event Calendar 2.0//EN
METHOD:PUBLISH
X-PUBLISHED-TTL:P3D
REFRESH-INTERVAL:P3D
CALSCALE:GREGORIAN
BEGIN:VEVENT
DTSTART:20230325T143000Z
DTEND:20230325T160000Z
X-MICROSOFT-CDO-ALLDAYEVENT:FALSE
SUMMARY:Writing for Children: The Inside Story
DESCRIPTION:Join Candlewick Press author Randi Sonenshine in the workshop on how to write and publish children's books.
X-ALT-DESC;FMTTYPE=text/html:Join Candlewick Press author Randi Sonenshine in the workshop on how to write and publish children&#39\;s books.
LOCATION:Cartersville Public Library Classroom
UID:e.1202.157650
SEQUENCE:3
DTSTAMP:20260423T203001Z
URL:https://business.cartersvillechamber.com/events/details/writing-for-children-the-inside-story-157650
END:VEVENT

END:VCALENDAR
