BEGIN:VCALENDAR
VERSION:2.0
PRODID:-//ChamberMaster//Event Calendar 2.0//EN
METHOD:PUBLISH
X-PUBLISHED-TTL:P3D
REFRESH-INTERVAL:P3D
CALSCALE:GREGORIAN
BEGIN:VEVENT
DTSTART:20250508T020000Z
DTEND:20250508T030000Z
X-MICROSOFT-CDO-ALLDAYEVENT:FALSE
SUMMARY:"Writing Your Business Plan" Webinar
DESCRIPTION:The University of Georgia Small Business Development Center Presents\n\nWriting Your Business Plan\n\n\n\nMay 7\, 2025\, 10 AM - 11 AM\n\nLive Webinar\n\nCost: $29\n\nRegister Online\n\n\n\nA business plan is more than just a document - it's your roadmap to success.\n\n\n\nJoin us to learn how to effectively communicate your vision\, goals and strategy through a well-structured plan tailored to your needs. This course breaks down each section of the business plan\, from the executive summary to financial projections\, with tools and resources to guide you along the way.\n\n\n\nLearn how to:\n\n	Use the business plan tool or template that works for you\n	Understand who your target customer is\n	Strategically position your business using a written plan\n	Incorporate a strong financial foundation into your business plan\n\n\n\nThe UGA SBDC is funded through a cooperative agreement with the U.S. Small Business Administration. All programs are open to the public on a non-discriminatory basis. Reasonable accommodations for persons with disabilities will be made if requested at least two weeks in advance. Contact the Rome office at rome@georgiasbdc.org or call 706-622-2006.
X-ALT-DESC;FMTTYPE=text/html:<em>The University of Georgia&nbsp\;Small Business Development Center Presents</em><br />\n<span style="font-size:16px\;"><strong>Writing Your Business Plan</strong></span><br />\n<br />\n<strong>May 7\, 2025\, 10 AM - 11 AM<br />\nLive Webinar<br />\nCost: $29<br />\n<a href="https://georgiasbdc.org/training-program/0638-004-sta-writing-your-business-plan/" target="_blank">Register Online</a></strong><br />\n<br />\n<em>A business plan is more than just a document - it&#39\;s your roadmap to success.</em><br />\n<br />\nJoin us to learn how to effectively communicate your vision\, goals and strategy through a well-structured plan tailored to your needs. This course breaks down each section of the business plan\, from the executive summary to financial projections\, with tools and resources to guide you along the way.<br />\n<br />\nLearn how to:\n<ul>\n	<li>Use the business plan tool or template that works for&nbsp\;you</li>\n	<li>Understand who your target customer is</li>\n	<li>Strategically position your business using a written plan</li>\n	<li>Incorporate a strong financial foundation into your business plan</li>\n</ul>\n<br />\nThe UGA SBDC is funded through a cooperative agreement with the U.S. Small Business Administration. All programs are open to the public on a non-discriminatory basis. Reasonable accommodations for persons with disabilities will be made if requested at least two weeks in advance. <strong>Contact the Rome office at <a href="mailto:rome@georgiasbdc.org">rome@georgiasbdc.org</a> or call 706-622-2006.</strong>
LOCATION:Live Webinar
UID:e.1202.170764
SEQUENCE:3
DTSTAMP:20260422T080249Z
URL:https://business.cartersvillechamber.com/events/details/writing-your-business-plan-webinar-170764
END:VEVENT

END:VCALENDAR
